BEGIN:VCALENDAR
VERSION:2.0
PRODID:-//Wesley Church of Hope UMC - ECPv6.15.18//NONSGML v1.0//EN
CALSCALE:GREGORIAN
METHOD:PUBLISH
X-WR-CALNAME:Wesley Church of Hope UMC
X-ORIGINAL-URL:https://wesleychurchofhope.org
X-WR-CALDESC:Events for Wesley Church of Hope UMC
REFRESH-INTERVAL;VALUE=DURATION:PT1H
X-Robots-Tag:noindex
X-PUBLISHED-TTL:PT1H
BEGIN:VTIMEZONE
TZID:America/New_York
BEGIN:DAYLIGHT
TZOFFSETFROM:-0500
TZOFFSETTO:-0400
TZNAME:EDT
DTSTART:20240310T070000
END:DAYLIGHT
BEGIN:STANDARD
TZOFFSETFROM:-0400
TZOFFSETTO:-0500
TZNAME:EST
DTSTART:20241103T060000
END:STANDARD
BEGIN:DAYLIGHT
TZOFFSETFROM:-0500
TZOFFSETTO:-0400
TZNAME:EDT
DTSTART:20250309T070000
END:DAYLIGHT
BEGIN:STANDARD
TZOFFSETFROM:-0400
TZOFFSETTO:-0500
TZNAME:EST
DTSTART:20251102T060000
END:STANDARD
BEGIN:DAYLIGHT
TZOFFSETFROM:-0500
TZOFFSETTO:-0400
TZNAME:EDT
DTSTART:20260308T070000
END:DAYLIGHT
BEGIN:STANDARD
TZOFFSETFROM:-0400
TZOFFSETTO:-0500
TZNAME:EST
DTSTART:20261101T060000
END:STANDARD
END:VTIMEZONE
BEGIN:VEVENT
DTSTART;TZID=America/New_York:20250726T090000
DTEND;TZID=America/New_York:20250726T110000
DTSTAMP:20260419T110443
CREATED:20250721T055522Z
LAST-MODIFIED:20250721T055619Z
UID:10002932-1753520400-1753527600@wesleychurchofhope.org
SUMMARY:WCOH Men's Breakfast Meeting
DESCRIPTION:
URL:https://wesleychurchofhope.org/event/wcoh-mens-breakfast/
LOCATION:Wesley Church of Hope\, 2935 Bulen Avenue\, Columbus\, OH\, 43207\, United States
CATEGORIES:Men’s Ministry
ATTACH;FMTTYPE=image/png:https://wesleychurchofhope.org/wp-content/uploads/2025/07/2025-Livestream-Slides-1.png
END:VEVENT
BEGIN:VEVENT
DTSTART;TZID=America/New_York:20250622T110000
DTEND;TZID=America/New_York:20250622T130000
DTSTAMP:20260419T110443
CREATED:20250502T112735Z
LAST-MODIFIED:20250502T112735Z
UID:10002915-1750590000-1750597200@wesleychurchofhope.org
SUMMARY:Certified Lay Minister Celebration Sunday
DESCRIPTION:
URL:https://wesleychurchofhope.org/event/certified-lay-minister-celebration-sunday/
LOCATION:Wesley Church of Hope\, 2935 Bulen Avenue\, Columbus\, OH\, 43207\, United States
CATEGORIES:Worship Services
ATTACH;FMTTYPE=image/jpeg:https://wesleychurchofhope.org/wp-content/uploads/2025/05/CLM-CELEBRATION-e1746185205789.jpg
END:VEVENT
BEGIN:VEVENT
DTSTART;TZID=America/New_York:20250418T180000
DTEND;TZID=America/New_York:20250418T200000
DTSTAMP:20260419T110443
CREATED:20250415T101532Z
LAST-MODIFIED:20250415T101532Z
UID:10002895-1744999200-1745006400@wesleychurchofhope.org
SUMMARY:Good Friday Service
DESCRIPTION:
URL:https://wesleychurchofhope.org/event/good-friday-service/
LOCATION:Wesley Church of Hope\, 2935 Bulen Avenue\, Columbus\, OH\, 43207\, United States
CATEGORIES:Worship Services
ATTACH;FMTTYPE=image/jpeg:https://wesleychurchofhope.org/wp-content/uploads/2025/04/7935B79B-CA28-449C-8801-BB78D1FBFEB3.jpeg
END:VEVENT
END:VCALENDAR